BEGIN:VCALENDAR
VERSION:2.0
PRODID:-//DIGITAL FACTORY//EVENTS MAKER V1.6.14//EN
CALSCALE:GREGORIAN
BEGIN:VEVENT
DTEND:20250622T100000Z
UID:69e63da6c5746
DTSTAMP:20260420T145222Z
CATEGORIES:Gottesdienst
DESCRIPTION:Gottesdienst mit Gästen aus der reformierten Gemeinde Brauschschweig    Pfarrer Holger Lübs    im Gemeindehaus  Marschnerstraße 15  09120 Chemnitz
URL;VALUE=URI:https://reformiert.kirchechemnitz.de/cms/events/event/gottesdienst-5/
SUMMARY:Gottesdienst
DTSTART:20250622T090000Z
END:VEVENT
END:VCALENDAR
